BEGIN:VCALENDAR
VERSION:2.0
PRODID:-//Your Greater Moncton - ECPv6.15.15//NONSGML v1.0//EN
CALSCALE:GREGORIAN
METHOD:PUBLISH
X-WR-CALNAME:Your Greater Moncton
X-ORIGINAL-URL:https://yourgreatermoncton.ca
X-WR-CALDESC:Events for Your Greater Moncton
REFRESH-INTERVAL;VALUE=DURATION:PT1H
X-Robots-Tag:noindex
X-PUBLISHED-TTL:PT1H
BEGIN:VTIMEZONE
TZID:America/Halifax
BEGIN:DAYLIGHT
TZOFFSETFROM:-0400
TZOFFSETTO:-0300
TZNAME:ADT
DTSTART:20250309T060000
END:DAYLIGHT
BEGIN:STANDARD
TZOFFSETFROM:-0300
TZOFFSETTO:-0400
TZNAME:AST
DTSTART:20251102T050000
END:STANDARD
BEGIN:DAYLIGHT
TZOFFSETFROM:-0400
TZOFFSETTO:-0300
TZNAME:ADT
DTSTART:20260308T060000
END:DAYLIGHT
BEGIN:STANDARD
TZOFFSETFROM:-0300
TZOFFSETTO:-0400
TZNAME:AST
DTSTART:20261101T050000
END:STANDARD
BEGIN:DAYLIGHT
TZOFFSETFROM:-0400
TZOFFSETTO:-0300
TZNAME:ADT
DTSTART:20270314T060000
END:DAYLIGHT
BEGIN:STANDARD
TZOFFSETFROM:-0300
TZOFFSETTO:-0400
TZNAME:AST
DTSTART:20271107T050000
END:STANDARD
END:VTIMEZONE
BEGIN:VTIMEZONE
TZID:America/Detroit
BEGIN:DAYLIGHT
TZOFFSETFROM:-0500
TZOFFSETTO:-0400
TZNAME:EDT
DTSTART:20250309T070000
END:DAYLIGHT
BEGIN:STANDARD
TZOFFSETFROM:-0400
TZOFFSETTO:-0500
TZNAME:EST
DTSTART:20251102T060000
END:STANDARD
BEGIN:DAYLIGHT
TZOFFSETFROM:-0500
TZOFFSETTO:-0400
TZNAME:EDT
DTSTART:20260308T070000
END:DAYLIGHT
BEGIN:STANDARD
TZOFFSETFROM:-0400
TZOFFSETTO:-0500
TZNAME:EST
DTSTART:20261101T060000
END:STANDARD
BEGIN:DAYLIGHT
TZOFFSETFROM:-0500
TZOFFSETTO:-0400
TZNAME:EDT
DTSTART:20270314T070000
END:DAYLIGHT
BEGIN:STANDARD
TZOFFSETFROM:-0400
TZOFFSETTO:-0500
TZNAME:EST
DTSTART:20271107T060000
END:STANDARD
END:VTIMEZONE
BEGIN:VEVENT
DTSTART;TZID=America/Halifax:20260422T130000
DTEND;TZID=America/Halifax:20260422T150000
DTSTAMP:20260422T013737
CREATED:20260417T185314Z
LAST-MODIFIED:20260417T185314Z
UID:234993-1776862800-1776870000@yourgreatermoncton.ca
SUMMARY:Minds in Motion® - Moncton
DESCRIPTION:A physical activity and mental and social stimulation program for people living with early to mid-stage Alzheimer’s disease or another form of dementia. \n\nTo register\, contact your local Alzheimer Society or our provincial office at 1-800-664-8411 or education@alzheimernb.ca. \n\nMinds in Motion® is a fun and engaging program for people living with early to mid-stage Alzheimer’s disease or another form of dementia. \nEach week\, participants meet for a half an hour of walking around an accessible indoor walking track followed by fun brain activities.
URL:https://yourgreatermoncton.ca/event/minds-in-motion-moncton/
LOCATION:YMCA Moncton North\, 70 Twin Oaks Dr\, Moncton\, New Brunswick\, E1G 0A1\, Canada
END:VEVENT
BEGIN:VEVENT
DTSTART;TZID=America/Detroit:20260422T193000
DTEND;TZID=America/Detroit:20260422T213000
DTSTAMP:20260422T013737
CREATED:20260202T175228Z
LAST-MODIFIED:20260202T175228Z
UID:1848-1776886200-1776893400@yourgreatermoncton.ca
SUMMARY:Made in Cape Breton
DESCRIPTION:Starring Bette MacDonald\, Maynard Morrison\, Jordan Musycsyn\, Mac Morin and Wendy MacIsaac\n\nAn unforgettable night of music and comedy from comedy masters\, Bette MacDonald and Maynard Morrison\, joined by the cream of Cape Breton’s finest musicians – Jordan Musycsyn\, Mac Morin and Wendy MacIsaac. The show takes a no-holds-barred look at what makes Cape Breton and its people so unique\, so hilarious and so adept at throwing the best kitchen parties ever! \n\nhttp://www.bettemacdonald.com/
URL:https://yourgreatermoncton.ca/event/made-in-cape-breton/
LOCATION:Riverview Arts Centre\, 400 Whitepine Rd\, Riverview\, New Brunswick\, E1B 4H8\, Canada
ATTACH;FMTTYPE=image/jpeg:https://yourgreatermoncton.ca/wp-content/uploads/2026/02/rv3.jpg
END:VEVENT
BEGIN:VEVENT
DTSTART;TZID=America/Halifax:20260422T193000
DTEND;TZID=America/Halifax:20260422T220000
DTSTAMP:20260422T013737
CREATED:20260415T191543Z
LAST-MODIFIED:20260415T191543Z
UID:234861-1776886200-1776895200@yourgreatermoncton.ca
SUMMARY:Made in Cape Breton
DESCRIPTION:Starring Bette MacDonald\, Maynard Morrison\, Jordan Musycsyn\, Mac Morin and Wendy MacIsaac \nAn unforgettable night of music and comedy from comedy masters\, Bette MacDonald and Maynard Morrison\, joined by the cream of Cape Breton’s finest musicians – Jordan Musycsyn\, Mac Morin and Wendy MacIsaac. The show takes a no-holds-barred look at what makes Cape Breton and its people so unique\, so hilarious and so adept at throwing the best kitchen parties ever!
URL:https://yourgreatermoncton.ca/event/made-in-cape-breton-2/
LOCATION:Riverview Arts Centre\, 400 Whitepine Rd\, Riverview\, New Brunswick\, E1B 4H8\, Canada
ATTACH;FMTTYPE=image/jpeg:https://yourgreatermoncton.ca/wp-content/uploads/2026/04/cape.jpg
END:VEVENT
END:VCALENDAR